BEGIN:VCALENDAR
VERSION:2.0
PRODID:-//Sevenoaks - ECPv4.6.16//NONSGML v1.0//EN
CALSCALE:GREGORIAN
METHOD:PUBLISH
X-WR-CALNAME:Sevenoaks
X-ORIGINAL-URL:http://sevenoaks.wa.edu.au
X-WR-CALDESC:Events for Sevenoaks
BEGIN:VEVENT
DTSTART;VALUE=DATE:20190215
DTEND;VALUE=DATE:20190216
DTSTAMP:20190227T143142
CREATED:20190114T053116Z
LAST-MODIFIED:20190114T053116Z
UID:2276-1550188800-1550275199@sevenoaks.wa.edu.au
SUMMARY:Parinirvana Day
DESCRIPTION:This day is an observance of the death of the Buddha (Mahayana tradition). \n
URL:http://sevenoaks.wa.edu.au/event/parinirvana-day/
CATEGORIES:National Days
END:VEVENT
END:VCALENDAR