BEGIN:VCALENDAR
VERSION:2.0
PRODID:-//Sevenoaks - ECPv4.6.16//NONSGML v1.0//EN
CALSCALE:GREGORIAN
METHOD:PUBLISH
X-WR-CALNAME:Sevenoaks
X-ORIGINAL-URL:http://sevenoaks.wa.edu.au
X-WR-CALDESC:Events for Sevenoaks
BEGIN:VEVENT
DTSTART;VALUE=DATE:20190206
DTEND;VALUE=DATE:20190207
DTSTAMP:20190227T142707
CREATED:20190114T052958Z
LAST-MODIFIED:20190114T052958Z
UID:2272-1549411200-1549497599@sevenoaks.wa.edu.au
SUMMARY:Waitangi Day (NZ)
DESCRIPTION:
URL:http://sevenoaks.wa.edu.au/event/waitangi-day-nz/
CATEGORIES:National Days
END:VEVENT
END:VCALENDAR